BEGIN:VCALENDAR
VERSION:2.0
CALSCALE:GREGORIAN
METHOD:PUBLISH
PRODID:-//CSMusic.cz//Akce//EN
BEGIN:VEVENT
UID:akce_69ecd64494cf73.26094206
DTSTAMP:20260425T165708
DTSTART:20241108T000000
DTEND:20241108T000000
SUMMARY:Kabát  - Po čertech velký turné 2024 - Praha
LOCATION:, Praha
DESCRIPTION:Kabát  - Po čertech velký turné 2024 - Praha - , Praha
END:VEVENT
END:VCALENDAR