BEGIN:VCALENDAR
VERSION:2.0
CALSCALE:GREGORIAN
METHOD:PUBLISH
PRODID:-//CSMusic.cz//Akce//EN
BEGIN:VEVENT
UID:akce_69ecd7f038b5a1.12153526
DTSTAMP:20260425T170416
DTSTART:20170610T000000
DTEND:20170610T000000
SUMMARY:Hanácké Benátky - Litovel
LOCATION:nám. Přemysla Otakara, Litovel
DESCRIPTION:Hanácké Benátky - Litovel - nám. Přemysla Otakara, Litovel
END:VEVENT
END:VCALENDAR