BEGIN:VCALENDAR
VERSION:2.0
CALSCALE:GREGORIAN
METHOD:PUBLISH
PRODID:-//CSMusic.cz//Akce//EN
BEGIN:VEVENT
UID:akce_69ecd880093ab1.04491858
DTSTAMP:20260425T170640
DTSTART:20260801T000000
DTEND:20260801T000000
SUMMARY:Arakain + Dymytry - Best rock tour 2026 - Pardubice
LOCATION:Svojšice 8, Pardubice
DESCRIPTION:Arakain + Dymytry - Best rock tour 2026 - Pardubice - Svojšice 8, Pardubice
END:VEVENT
END:VCALENDAR