BEGIN:VCALENDAR
VERSION:2.0
CALSCALE:GREGORIAN
METHOD:PUBLISH
PRODID:-//CSMusic.cz//Akce//EN
BEGIN:VEVENT
UID:akce_69ed0d715b3936.74154885
DTSTAMP:20260425T205233
DTSTART:20191211T000000
DTEND:20191211T000000
SUMMARY:Jelen + Martyho Banda - Tour 2019 - Praha
LOCATION:Lucerna Music Bar, Praha
DESCRIPTION:Jelen + Martyho Banda - Tour 2019 - Praha - Lucerna Music Bar, Praha
END:VEVENT
END:VCALENDAR