BEGIN:VCALENDAR
VERSION:2.0
CALSCALE:GREGORIAN
METHOD:PUBLISH
PRODID:-//CSMusic.cz//Akce//EN
BEGIN:VEVENT
UID:akce_69ed22aa0dc1f0.87747738
DTSTAMP:20260425T222306
DTSTART:20191121T000000
DTEND:20191121T000000
SUMMARY:Jelen + Martyho Banda - Tour 2019 - Mladá Boleslav
LOCATION:Škoda Auto Museum, Mladá Boleslav
DESCRIPTION:Jelen + Martyho Banda - Tour 2019 - Mladá Boleslav - Škoda Auto Museum, Mladá Boleslav
END:VEVENT
END:VCALENDAR