BEGIN:VCALENDAR
VERSION:2.0
CALSCALE:GREGORIAN
METHOD:PUBLISH
PRODID:-//CSMusic.cz//Akce//EN
BEGIN:VEVENT
UID:akce_69ed7e2fd48370.87904485
DTSTAMP:20260426T045335
DTSTART:20250926T000000
DTEND:20250926T000000
SUMMARY:Traktor - Jungle tour 2025 - Praha
LOCATION:, Praha
DESCRIPTION:Traktor - Jungle tour 2025 - Praha - , Praha
END:VEVENT
END:VCALENDAR