BEGIN:VCALENDAR
VERSION:2.0
CALSCALE:GREGORIAN
METHOD:PUBLISH
PRODID:-//CSMusic.cz//Akce//EN
BEGIN:VEVENT
UID:akce_69ed813def4f43.78007066
DTSTAMP:20260426T050637
DTSTART:20260429T000000
DTEND:20260429T000000
SUMMARY:Petr Kolář + Lenka Nová + Ladislav Korbel - Praha
LOCATION:Divadlo Hibernia, Praha
DESCRIPTION:Petr Kolář + Lenka Nová + Ladislav Korbel - Praha - Divadlo Hibernia, Praha
END:VEVENT
END:VCALENDAR