BEGIN:VCALENDAR
VERSION:2.0
CALSCALE:GREGORIAN
METHOD:PUBLISH
PRODID:-//CSMusic.cz//Akce//EN
BEGIN:VEVENT
UID:akce_69ed817a8923c0.29289068
DTSTAMP:20260426T050738
DTSTART:20260428T000000
DTEND:20260428T000000
SUMMARY:Deloraine a Irdorath - Beltine - Praha
LOCATION:Archa+, Praha
DESCRIPTION:Deloraine a Irdorath - Beltine - Praha - Archa+, Praha
END:VEVENT
END:VCALENDAR