BEGIN:VCALENDAR
VERSION:2.0
CALSCALE:GREGORIAN
METHOD:PUBLISH
PRODID:-//CSMusic.cz//Akce//EN
BEGIN:VEVENT
UID:akce_69ed81b36d8c31.44857357
DTSTAMP:20260426T050835
DTSTART:20260428T000000
DTEND:20260428T000000
SUMMARY:Petr Kolář + Lenka Nová + Ladislav Korbel - Tábor
LOCATION:Hotel Palcát, Tábor
DESCRIPTION:Petr Kolář + Lenka Nová + Ladislav Korbel - Tábor - Hotel Palcát, Tábor
END:VEVENT
END:VCALENDAR